BEGIN:VCALENDAR
VERSION:2.0
PRODID:-//wp-events-plugin.com//7.2.3.1//EN
TZID:America/New_York
X-WR-TIMEZONE:America/New_York
BEGIN:VEVENT
UID:2020@findingconnecticut.com
DTSTART;TZID=America/New_York:20230814T120000
DTEND;TZID=America/New_York:20230814T230000
DTSTAMP:20230724T193551Z
URL:https://findingconnecticut.com/events/2023-summer-restaurant-weeks-202
 3-08-14/
SUMMARY:2023 Summer Restaurant Weeks
DESCRIPTION:2023 Summer Restaurant Weeks\nAugust 14 - August 27\nClick here
  for more information\n\nTo add an event please email us\, we monitor for 
 spam. We need a photo\, description and website for each submission - We d
 o not accept submissions that are within the next 3 days. submissions at f
 indingconnecticut.com  \n\n[caption id="attachment_16083" align="alignno
 ne" width="300"] shop.findingconnecticut.com[/caption]
ATTACH;FMTTYPE=image/jpeg:https://findingconnecticut.com/wp-content/upload
 s/2023/07/028-638x300-1.jpg
CATEGORIES:Stamford
END:VEVENT
BEGIN:VTIMEZONE
TZID:America/New_York
X-LIC-LOCATION:America/New_York
BEGIN:DAYLIGHT
DTSTART:20230312T030000
TZOFFSETFROM:-0500
TZOFFSETTO:-0400
TZNAME:EDT
END:DAYLIGHT
END:VTIMEZONE
END:VCALENDAR