BEGIN:VCALENDAR
VERSION:2.0
PRODID:-//wp-events-plugin.com//7.2.3.1//EN
TZID:America/New_York
X-WR-TIMEZONE:America/New_York
BEGIN:VEVENT
UID:1294@findingconnecticut.com
DTSTART;TZID=America/New_York:20230606T190000
DTEND;TZID=America/New_York:20230606T213000
DTSTAMP:20230524T151657Z
URL:https://findingconnecticut.com/events/1938-hurricane-panel/
SUMMARY:1938 Hurricane panel
DESCRIPTION:1938 Hurricane panel\nJune 6\, 2023  •  7 PM\n\nClick here 
 for more information \n\n The Katherine Hepburn Cultural Arts Center\n 
 300 Main Street\n Old Saybrook\, CT 06475  \n\n\n To add an event pleas
 e email us\, we monitor for spam. We need a photo\, description and websit
 e for each submission - We do not accept submissions that are within the n
 ext 3 days. submissions at findingconnecticut.com  \n\n[caption id="atta
 chment_16083" align="alignnone" width="300"] shop.findingconnecticut.com[/
 caption]
ATTACH;FMTTYPE=image/jpeg:https://findingconnecticut.com/wp-content/upload
 s/2023/05/unnamed-2-1.jpg
CATEGORIES:Old Saybrook
LOCATION:The Katherine Hepburn Culture Arts Center\, 300 Main Street\, \, O
 ld Saybrook\, \, Connecticut \, 06475\, New England \, United States
X-APPLE-STRUCTURED-LOCATION;VALUE=URI;X-ADDRESS=300 Main Street\, \, Old Sa
 ybrook\, \, Connecticut \, 06475\, New England \, United States;X-APPLE-RA
 DIUS=100;X-TITLE=The Katherine Hepburn Culture Arts Center:geo:0,0
END:VEVENT
BEGIN:VTIMEZONE
TZID:America/New_York
X-LIC-LOCATION:America/New_York
BEGIN:DAYLIGHT
DTSTART:20230312T030000
TZOFFSETFROM:-0500
TZOFFSETTO:-0400
TZNAME:EDT
END:DAYLIGHT
END:VTIMEZONE
END:VCALENDAR