BEGIN:VCALENDAR
VERSION:2.0
PRODID:-//wp-events-plugin.com//7.2.3.1//EN
TZID:America/New_York
X-WR-TIMEZONE:America/New_York
BEGIN:VEVENT
UID:1317@findingconnecticut.com
DTSTART;TZID=America/New_York:20230624T140000
DTEND;TZID=America/New_York:20230624T163000
DTSTAMP:20230528T150528Z
URL:https://findingconnecticut.com/events/12-angry-men-8/
SUMMARY:12 Angry Men
DESCRIPTION:12 Angry Men\nJune 24\, 2023  •  2 PM\n\nClick here for mor
 e information\n\n Powerhouse Theater\n679 South Ave\nNew Canaan\, CT 0684
 0\n\nTo add an event please email us\, we monitor for spam. We need a phot
 o\, description and website for each submission - We do not accept submiss
 ions that are within the next 3 days. submissions at findingconnecticut.co
 m  \n\n[caption id="attachment_16083" align="alignnone" width="300"] sho
 p.findingconnecticut.com[/caption]
ATTACH;FMTTYPE=image/jpeg:https://findingconnecticut.com/wp-content/upload
 s/2023/05/974861B4-BAED-482E-B99F-5474D11F2A15-1536x898-2.jpeg
CATEGORIES:New Canaan
LOCATION:Powerhouse Theater\, 679 South Ave\, New Canaan\, Connecticut \, 0
 6840\, New England\, United States
X-APPLE-STRUCTURED-LOCATION;VALUE=URI;X-ADDRESS=679 South Ave\, New Canaan\
 , Connecticut \, 06840\, New England\, United States;X-APPLE-RADIUS=100;X-
 TITLE=Powerhouse Theater:geo:0,0
END:VEVENT
BEGIN:VTIMEZONE
TZID:America/New_York
X-LIC-LOCATION:America/New_York
BEGIN:DAYLIGHT
DTSTART:20230312T030000
TZOFFSETFROM:-0500
TZOFFSETTO:-0400
TZNAME:EDT
END:DAYLIGHT
END:VTIMEZONE
END:VCALENDAR