BEGIN:VCALENDAR
VERSION:2.0
PRODID:-//wp-events-plugin.com//7.2.3.1//EN
TZID:America/New_York
X-WR-TIMEZONE:America/New_York
BEGIN:VEVENT
UID:11283@findingconnecticut.com
DTSTART;TZID=America/New_York:20250911T200000
DTEND;TZID=America/New_York:20250911T220000
DTSTAMP:20250627T162059Z
URL:https://findingconnecticut.com/events/10cc-district-music-hall-norwalk
 -ct-september-11-2025/
SUMMARY:10cc
DESCRIPTION:10cc\nSeptember 11\, 2025\n\n Click here for more information
  \n\nDistrict Music Hall\n71 Wall Street\nNorwalk\, Connecticut 06850\nAs
  of March 2025\, all event listings require payment.\nTo submit your event
 \, please send the event details along with a photo and/or logo to submiss
 ions at findingconnecticut dot com. You can complete your payment here\nY
 our event will be published within 24 hours after both payment and all req
 uired information have been received.\nWe offer discounts for multiple eve
 nt listings.\nThank you for supporting Finding Connecticut—your partici
 pation helps us grow our website and brand.\n(We do not publish any conten
 t that has to do with areas outside of Connecticut. If you are looking to 
 post on our Hudson Valley or New York City pages\, then contact us via ema
 il.)\n\n\n[caption id="attachment_16083" align="alignnone" width="300"] sh
 op.findingconnecticut.com[/caption]
ATTACH;FMTTYPE=image/jpeg:https://findingconnecticut.com/wp-content/upload
 s/2025/04/10cc_1080x1350px_InstagramPortrait.png
CATEGORIES:Norwalk
LOCATION:District Music Hall\, 71 Wall Street\, Norwalk\, Connecticut \, 06
 850\, New England \, United States
X-APPLE-STRUCTURED-LOCATION;VALUE=URI;X-ADDRESS=71 Wall Street\, Norwalk\, 
 Connecticut \, 06850\, New England \, United States;X-APPLE-RADIUS=100;X-T
 ITLE=District Music Hall:geo:0,0
END:VEVENT
BEGIN:VTIMEZONE
TZID:America/New_York
X-LIC-LOCATION:America/New_York
BEGIN:DAYLIGHT
DTSTART:20250309T030000
TZOFFSETFROM:-0500
TZOFFSETTO:-0400
TZNAME:EDT
END:DAYLIGHT
END:VTIMEZONE
END:VCALENDAR